BEGIN:VCALENDAR
VERSION:2.0
PRODID:-//Alianza VHL - ECPv6.15.20//NONSGML v1.0//EN
CALSCALE:GREGORIAN
METHOD:PUBLISH
X-WR-CALNAME:Alianza VHL
X-ORIGINAL-URL:https://alianzavhl.org
X-WR-CALDESC:Eventos para Alianza VHL
REFRESH-INTERVAL;VALUE=DURATION:PT1H
X-Robots-Tag:noindex
X-PUBLISHED-TTL:PT1H
BEGIN:VTIMEZONE
TZID:UTC
BEGIN:STANDARD
TZOFFSETFROM:+0000
TZOFFSETTO:+0000
TZNAME:UTC
DTSTART:20250101T000000
END:STANDARD
END:VTIMEZONE
BEGIN:VEVENT
DTSTART;TZID=UTC:20260528T080000
DTEND;TZID=UTC:20260531T200000
DTSTAMP:20260422T113632
CREATED:20260120T101213Z
LAST-MODIFIED:20260120T101452Z
UID:43123-1779955200-1780257600@alianzavhl.org
SUMMARY:Becas para el Encuentro Europeo de Jóvenes 2026
DESCRIPTION:Nos complace informaros de que la Alianza Española de Familias de von Hippel-Lindau está organizando el Encuentro de Jóvenes VHL\, que tendrá lugar en Madrid del 28 al 31 de mayo de 2026. \nEl encuentro está dirigido a jóvenes afectados por VHL de entre 18 y 30 años y contará con ponencias médicas centradas en aspectos relevantes de la enfermedad\, así como espacios para el intercambio de experiencias entre los participantes. \nInformación clave del encuentro: \n\n Lugar: Madrid\n Fechas: del 28 al 31 de mayo de 2026\n Plazas disponibles: 20\n Incluye: alojamiento con desayuno y comida\n No incluye: desplazamientos hasta el lugar del evento\n Idioma del evento: inglés (es necesario tener un nivel suficiente para seguir las sesiones)\n\nRequisitos para participar: \n  Ser socio/a de la Alianza Española de Familias de VHL \n Estar al corriente de pago de la cuota de socio \nEdad entre 18 y 30 años. \nLas personas interesadas deberán escribir a administrativa@alianzavhl.org para solicitar la beca.\nLa asignación de plazas se realizará por orden de inscripción\, dando prioridad a quienes no hayan asistido anteriormente a este tipo de encuentros. \n Fecha límite para solicitar la beca: 10 de febrero de 2026 \nOs animamos a participar en esta iniciativa\, que representa una excelente oportunidad para aprender\, compartir experiencias y conectar con otros jóvenes afectados por VHL en un entorno enriquecedor y formativo. \nUn cordial saludo\, \nSusi Martínez\nAlianza Española de Familias de von Hippel-Lindau
URL:https://alianzavhl.org/evento/becas-para-el-encuentro-europeo-de-jovenes-2026/
LOCATION:Madrid
CATEGORIES:Reunión Anual
ATTACH;FMTTYPE=image/jpeg:https://alianzavhl.org/wp-content/uploads/2026/01/encuentro-europeo-jovenes-2026.jpeg
END:VEVENT
END:VCALENDAR